BEGIN:VCALENDAR
VERSION:2.0
PRODID:-//CISA - Community Involved In Sustaining Agriculture - ECPv6.15.15//NONSGML v1.0//EN
CALSCALE:GREGORIAN
METHOD:PUBLISH
X-ORIGINAL-URL:https://www.buylocalfood.org
X-WR-CALDESC:Events for CISA - Community Involved In Sustaining Agriculture
REFRESH-INTERVAL;VALUE=DURATION:PT1H
X-Robots-Tag:noindex
X-PUBLISHED-TTL:PT1H
BEGIN:VTIMEZONE
TZID:America/New_York
BEGIN:DAYLIGHT
TZOFFSETFROM:-0500
TZOFFSETTO:-0400
TZNAME:EDT
DTSTART:20240310T070000
END:DAYLIGHT
BEGIN:STANDARD
TZOFFSETFROM:-0400
TZOFFSETTO:-0500
TZNAME:EST
DTSTART:20241103T060000
END:STANDARD
BEGIN:DAYLIGHT
TZOFFSETFROM:-0500
TZOFFSETTO:-0400
TZNAME:EDT
DTSTART:20250309T070000
END:DAYLIGHT
BEGIN:STANDARD
TZOFFSETFROM:-0400
TZOFFSETTO:-0500
TZNAME:EST
DTSTART:20251102T060000
END:STANDARD
BEGIN:DAYLIGHT
TZOFFSETFROM:-0500
TZOFFSETTO:-0400
TZNAME:EDT
DTSTART:20260308T070000
END:DAYLIGHT
BEGIN:STANDARD
TZOFFSETFROM:-0400
TZOFFSETTO:-0500
TZNAME:EST
DTSTART:20261101T060000
END:STANDARD
END:VTIMEZONE
BEGIN:VEVENT
DTSTART;TZID=America/New_York:20250522T170000
DTEND;TZID=America/New_York:20250522T183000
DTSTAMP:20260421T062632
CREATED:20250428T165656Z
LAST-MODIFIED:20250502T140048Z
UID:49883-1747933200-1747938600@www.buylocalfood.org
SUMMARY:Protecting Your Farm Crew from Extreme Heat / Cómo proteger equipos de trabajo agrícola del calor extremo
DESCRIPTION:Register here! \nJoin CISA for a remote heat safety training for farmers\, farm managers and crew leaders. Although farmers have always dealt with hot days\, climate trends show we can expect more frequent extreme heat events in our region\, bringing increased health risks to farm crews. This webinar will cover strategies for monitoring heat risk\, providing effective training\, communicating with employees\, and responding in an emergency.   \nSarah Janes Ugoretz of University of Wisconsin-Madison Extension will explain newly proposed OSHA guidelines for heat safety and provide practical guidance and examples of best practices. We’ll share resources farmers and managers can adapt for their own use\, including templates and training materials available in Spanish and English. Attendees will have the opportunity to share their own creative strategies\, discuss challenges\, and think about a heat safety plan for their farm.   \n\nDate: Thursday\, May 22\, 5-6:30pm ET\nLocation: Zoom (link will be provided after registration) \n\nThis webinar is part of CISA’s annual Adapt your Farm to Climate Change Series. The series currently focuses on the impacts of increasing temperatures throughout the year on specific parts of our food system\, including soil\, weeds and pests\, farmworker health and safety\, heat tolerant crops\, urban farms and others.  \nContact Stephen Taranto at stephen@buylocalfood.org or 413-665-7100 ext. 17 with any questions.  \nThis material is based upon work supported by USDA/NIFA under Award Number 2023-70027-40447.  \n________________________________________________________________________________________ \nRegístrese aqui \nÚnase a CISA para una capacitación remota sobre protección contra el calor para agricultores\, administradores de fincas y jefes de equipo. Si bien los agricultores siempre han trabajado en días calurosos\, las tendencias climáticas indican que podemos esperar eventos de calor extremo más frecuentes en nuestra región\, lo que conlleva mayores riesgos para la salud de los equipos agrícolas. Este webinar abordará estrategias para monitorear el riesgo de calor\, brindar capacitación efectiva\, comunicarse con los empleados y responder ante una emergencia.  \n Sarah Janes Ugoretz\, de la Extensión de la Universidad de Wisconsin-Madison\, explicará las nuevas recomendaciones de la OSHA para la protección contra el calor y brindará orientación práctica y ejemplos de mejores prácticas. Compartiremos recursos que los agricultores y administradores pueden adaptar para su propio uso\, incluyendo plantillas y materiales de capacitación disponibles en español e inglés. Los asistentes tendrán la oportunidad de compartir sus propias estrategias creativas\, discutir los desafíos y diseñar un plan de seguridad contra el calor para su finca.  \n\nFecha: Jueves\, 22 de Mayo\, 5-6:30pm ET\nLugar: Zoom\n\n¿Preguntas? Póngase en contacto con Stephen Taranto\, stephen@buylocalfood.org\, 413-665-7100 ext. 17. \n  \n 
URL:https://www.buylocalfood.org/event/protecting-your-farm-crew-from-extreme-heat/
LOCATION:Remote
CATEGORIES:Climate Events,CISA Events,Farmer Events,CISA Workshops for Businesses
END:VEVENT
END:VCALENDAR