BEGIN:VCALENDAR
VERSION:2.0
PRODID:-//CISA - Community Involved In Sustaining Agriculture - ECPv6.15.15//NONSGML v1.0//EN
CALSCALE:GREGORIAN
METHOD:PUBLISH
X-ORIGINAL-URL:https://www.buylocalfood.org
X-WR-CALDESC:Events for CISA - Community Involved In Sustaining Agriculture
REFRESH-INTERVAL;VALUE=DURATION:PT1H
X-Robots-Tag:noindex
X-PUBLISHED-TTL:PT1H
BEGIN:VTIMEZONE
TZID:America/New_York
BEGIN:DAYLIGHT
TZOFFSETFROM:-0500
TZOFFSETTO:-0400
TZNAME:EDT
DTSTART:20240310T070000
END:DAYLIGHT
BEGIN:STANDARD
TZOFFSETFROM:-0400
TZOFFSETTO:-0500
TZNAME:EST
DTSTART:20241103T060000
END:STANDARD
BEGIN:DAYLIGHT
TZOFFSETFROM:-0500
TZOFFSETTO:-0400
TZNAME:EDT
DTSTART:20250309T070000
END:DAYLIGHT
BEGIN:STANDARD
TZOFFSETFROM:-0400
TZOFFSETTO:-0500
TZNAME:EST
DTSTART:20251102T060000
END:STANDARD
BEGIN:DAYLIGHT
TZOFFSETFROM:-0500
TZOFFSETTO:-0400
TZNAME:EDT
DTSTART:20260308T070000
END:DAYLIGHT
BEGIN:STANDARD
TZOFFSETFROM:-0400
TZOFFSETTO:-0500
TZNAME:EST
DTSTART:20261101T060000
END:STANDARD
END:VTIMEZONE
BEGIN:VEVENT
DTSTART;TZID=America/New_York:20251031T160000
DTEND;TZID=America/New_York:20251031T180000
DTSTAMP:20260420T081224
CREATED:20251017T151506Z
LAST-MODIFIED:20251020T142121Z
UID:50992-1761926400-1761933600@www.buylocalfood.org
SUMMARY:Making Food Fun Halloween Harvest
DESCRIPTION:CISA and the Deerfield Tilton Library are teaming up to celebrate Halloween 2025 with a harvest flair! \nJoin us at the CISA office at One Sugarloaf Street on Halloween\, Friday\, October 31st from 4-6pm for fun and games\, sips and nibbles of local food\, and a goodie bag of local treats for your trick-or-treat bag. \n\nMeet Mango\, the bearded dragon from the Tilton Library!\nPlay harvest-themed games\nEnjoy a selfie station for costume photos\nTaste pumpkin baked treats from Upinngil Farm\nSample cider & apples from Clarkdale Fruit Farms\nTake home goodie bags with chocolates from Richardson’s Candy & popcorn from Marty’s Local
URL:https://www.buylocalfood.org/event/25halloween-harvest/
LOCATION:Community Involved in Sustaining Agriculture\, One Sugarloaf Street\, South Deerfield\, MA\, 01373\, United States
CATEGORIES:Family events,CISA Events
END:VEVENT
END:VCALENDAR