BEGIN:VCALENDAR
VERSION:2.0
PRODID:-//CISA - Community Involved In Sustaining Agriculture - ECPv6.15.15//NONSGML v1.0//EN
CALSCALE:GREGORIAN
METHOD:PUBLISH
X-ORIGINAL-URL:https://www.buylocalfood.org
X-WR-CALDESC:Events for CISA - Community Involved In Sustaining Agriculture
REFRESH-INTERVAL;VALUE=DURATION:PT1H
X-Robots-Tag:noindex
X-PUBLISHED-TTL:PT1H
BEGIN:VTIMEZONE
TZID:America/New_York
BEGIN:DAYLIGHT
TZOFFSETFROM:-0500
TZOFFSETTO:-0400
TZNAME:EDT
DTSTART:20230312T070000
END:DAYLIGHT
BEGIN:STANDARD
TZOFFSETFROM:-0400
TZOFFSETTO:-0500
TZNAME:EST
DTSTART:20231105T060000
END:STANDARD
BEGIN:DAYLIGHT
TZOFFSETFROM:-0500
TZOFFSETTO:-0400
TZNAME:EDT
DTSTART:20240310T070000
END:DAYLIGHT
BEGIN:STANDARD
TZOFFSETFROM:-0400
TZOFFSETTO:-0500
TZNAME:EST
DTSTART:20241103T060000
END:STANDARD
BEGIN:DAYLIGHT
TZOFFSETFROM:-0500
TZOFFSETTO:-0400
TZNAME:EDT
DTSTART:20250309T070000
END:DAYLIGHT
BEGIN:STANDARD
TZOFFSETFROM:-0400
TZOFFSETTO:-0500
TZNAME:EST
DTSTART:20251102T060000
END:STANDARD
END:VTIMEZONE
BEGIN:VEVENT
DTSTART;TZID=America/New_York:20241121T100000
DTEND;TZID=America/New_York:20241221T150000
DTSTAMP:20260421T123118
CREATED:20241121T184412Z
LAST-MODIFIED:20241126T171940Z
UID:48693-1732183200-1734793200@www.buylocalfood.org
SUMMARY:Holiday Shopping at Garden in the Woods
DESCRIPTION:Join Native Plant Trust at the Garden Shop at Garden in the Woods for holiday shopping this November and December! Skip the lines and come shop our collection of unique gifts\, local goods and fair-trade items. We have something for everyone on your list. \nThe Garden Shop is open Thursday through Saturday\, 10am to 3pm from November 7th through December 21st. Please note\, we will be closed Thanksgiving week. \nWhen you arrive at the garden\, press the call button on the keypad and a member of the garden staff will open the gate for you. \n\n\n\nDate/time details\nThursday – Saturday 10am to 3pm (CLOSED Thanksgiving week).\n\n\nLocation\n180 Hemenway Road\, Framingham\, MA 01701
URL:https://www.buylocalfood.org/event/holiday-shopping-at-garden-in-the-woods/
CATEGORIES:Family events,Community Events
ATTACH;FMTTYPE=image/jpeg:https://www.buylocalfood.org/wp-content/uploads/2024/11/native-plant.jpg
END:VEVENT
END:VCALENDAR