BEGIN:VCALENDAR
VERSION:2.0
PRODID:-//CISA - Community Involved In Sustaining Agriculture - ECPv6.15.15//NONSGML v1.0//EN
CALSCALE:GREGORIAN
METHOD:PUBLISH
X-ORIGINAL-URL:https://www.buylocalfood.org
X-WR-CALDESC:Events for CISA - Community Involved In Sustaining Agriculture
REFRESH-INTERVAL;VALUE=DURATION:PT1H
X-Robots-Tag:noindex
X-PUBLISHED-TTL:PT1H
BEGIN:VTIMEZONE
TZID:America/New_York
BEGIN:DAYLIGHT
TZOFFSETFROM:-0500
TZOFFSETTO:-0400
TZNAME:EDT
DTSTART:20250309T070000
END:DAYLIGHT
BEGIN:STANDARD
TZOFFSETFROM:-0400
TZOFFSETTO:-0500
TZNAME:EST
DTSTART:20251102T060000
END:STANDARD
BEGIN:DAYLIGHT
TZOFFSETFROM:-0500
TZOFFSETTO:-0400
TZNAME:EDT
DTSTART:20260308T070000
END:DAYLIGHT
BEGIN:STANDARD
TZOFFSETFROM:-0400
TZOFFSETTO:-0500
TZNAME:EST
DTSTART:20261101T060000
END:STANDARD
BEGIN:DAYLIGHT
TZOFFSETFROM:-0500
TZOFFSETTO:-0400
TZNAME:EDT
DTSTART:20270314T070000
END:DAYLIGHT
BEGIN:STANDARD
TZOFFSETFROM:-0400
TZOFFSETTO:-0500
TZNAME:EST
DTSTART:20271107T060000
END:STANDARD
END:VTIMEZONE
BEGIN:VEVENT
DTSTART;TZID=America/New_York:20260505T163000
DTEND;TZID=America/New_York:20260505T183000
DTSTAMP:20260424T121009
CREATED:20260423T175131Z
LAST-MODIFIED:20260423T181651Z
UID:52119-1777998600-1778005800@www.buylocalfood.org
SUMMARY:Local Hero Meet & Greet: Hampden County
DESCRIPTION:Local Hero members\, you are invited! Celebrate the start of another season with a light supper and beverage in good company–other farmers! \nJennifer Core and CISA team members will be on hand to share updates on CISA’s programs for the year. This event is free\, but we appreciate registration so we plan for enough food. \nIf you renewed and haven’t received your 2026 Local Hero promotional materials yet\, we’ll bring them to the event for you. \nRegister here!
URL:https://www.buylocalfood.org/event/lh-meetup-hampden-county/
LOCATION:Raven Hollow Winery\, 436 Russellville Road\, Westfield\, MA\, 01085\, United States
CATEGORIES:CISA Events,Farmer Events
ATTACH;FMTTYPE=image/jpeg:https://www.buylocalfood.org/wp-content/uploads/2026/04/Bernards-photo-vegetable-crop-scaled.jpg
END:VEVENT
END:VCALENDAR